BEGIN:VCALENDAR
VERSION:2.0
PRODID:-//Plone.org//NONSGML plone.app.event//EN
X-WR-TIMEZONE:Europe/Madrid
BEGIN:VEVENT
SUMMARY:Elections to Representatives of the Department of Architectural Te
 chnology
DTSTART;VALUE=DATE:20151203
DTEND;VALUE=DATE:20151204
DTSTAMP:20260424T073750Z
UID:aeafd0a4956e4853aa3bf4cdab899368@genwebv4.upc.edu
CREATED:20151027T085538Z
DESCRIPTION:Elections to Representatives of the Department of Architectura
 l Technology
LAST-MODIFIED:20151124T121153Z
LOCATION:ETSAB
URL:https://ta.upc.edu/en/events/eleccions-1
END:VEVENT
END:VCALENDAR
